Workbook
Name 使用電力調整率: '[3]（九州電力）２７年１０月～２８年９月度予想金額'!#REF!
Name 使用電力調整率: '[4]（九州電力）２７年１０月～２８年９月度予想金額'!#REF!
Name 試算: '[4]（九州電力）２７年１０月～２８年９月度予想金額'!#REF!
Name 試算: '[4]（九州電力）２７年１０月～２８年９月度予想金額'!#REF!
Name 予定価格試算: '[4]（九州電力）２７年１０月～２８年９月度予想金額'!#REF!
Name 予定価格試算: '[4]（九州電力）２７年１０月～２８年９月度予想金額'!#REF!
Name 予定価格試算2: '[4]（九州電力）２７年１０月～２８年９月度予想金額'!#REF!
Name 予定価格試算2: '[4]（九州電力）２７年１０月～２８年９月度予想金額'!#REF!

Sheet 別紙4-1
A1: 【入札内訳書】 | H1: 住 所 商 号 代表者名 印
A2: =[1]予定価格算出資料!A1 -> 令和９年度小郡市役所庁舎外２８施設電力需給
A3: =[1]予定価格算出資料!$A$2 -> （令和 ９年４月～令和１０年３月期間中の予定使用電力量)
A4: 注）各施設の年額料金の総計は、別紙４-2の総計以下とすること。
A5: No. | B5: 施設名称 | C5: 基本料金 | G5: 従量料金 | K5: 総 計 （円）
C6: 予定 契約電力 | D6: 単価 （円/ｋW・月） | E6: 力率 | F6: 基本料金（円） | G6: 予定使用電力量 | I6: 単価 （円/ｋWｈ） | J6: 従量料金（円）
C8: （ｋＷ） | D8: ※小数点以下 第2位迄記入 | E8: （％） | F8: ※月毎の料金を小数点以下第３位切捨てし、12倍したもの | G8: （ｋWh) | I8: ※小数点以下 第2位迄記入 | J8: ※小数点以下第３位切捨て | K8: ※小数点以下第３位切捨て
C9: a | D9: b | E9: ｃ | F9: d=a×b((185-c)/100)×12 | G9: e | I9: f | J9: ｈ=e×f | K9: i=d+ｈ
A10: 1 | B10: =[2]予定価格算出資料!B9 -> 小郡市役所庁舎 | C10: =[1]別紙3!C5 -> 227 | E10: 100 | F10: =12*ROUNDDOWN(C10*D10*((185-E10)/100),2) -> 0 | G10: =[2]予定価格算出資料!G9 -> 夏季 | H10: =SUM([1]別紙3!G5:I5) -> 126007 | J10: =ROUNDDOWN(H10*I10,2) -> 0 | K10: =ROUNDDOWN(F10+J10+J11,2) -> 0 | M10: =H10+H11 -> 380607
G11: =[2]予定価格算出資料!G10 -> その他季 | H11: =SUM([1]別紙3!D5:F5)+SUM([1]別紙3!J5:O5) -> 254600 | J11: =ROUNDDOWN(H11*I11,2) -> 0
A12: =A10+1 -> 2 | B12: =[2]予定価格算出資料!B11 -> 小郡市役所庁舎（南別館） | C12: =[1]別紙3!C6 -> 48 | E12: 100 | F12: =12*ROUNDDOWN(C12*D12*((185-E12)/100),2) -> 0 | G12: =[2]予定価格算出資料!G11 -> 夏季 | H12: =SUM([1]別紙3!G6:I6) -> 15049 | J12: =ROUNDDOWN(H12*I12,2) -> 0 | K12: =ROUNDDOWN(F12+J12+J13,2) -> 0 | M12: =H12+H13 -> 45131
G13: =[2]予定価格算出資料!G12 -> その他季 | H13: =SUM([1]別紙3!D6:F6)+SUM([1]別紙3!J6:O6) -> 30082 | J13: =ROUNDDOWN(H13*I13,2) -> 0
A14: =A12+1 -> 3 | B14: =[2]予定価格算出資料!B13 -> 河北苑 | C14: =[1]別紙3!C7 -> 171 | E14: 100 | F14: =12*ROUNDDOWN(C14*D14*((185-E14)/100),2) -> 0 | G14: =[2]予定価格算出資料!G13 -> 夏季 | H14: =SUM([1]別紙3!G7:I7) -> 86618 | J14: =ROUNDDOWN(H14*I14,2) -> 0 | K14: =ROUNDDOWN(F14+J14+J15,2) -> 0 | M14: =H14+H15 -> 212260
G15: =[2]予定価格算出資料!G14 -> その他季 | H15: =SUM([1]別紙3!D7:F7)+SUM([1]別紙3!J7:O7) -> 125642 | J15: =ROUNDDOWN(H15*I15,2) -> 0
A16: =A14+1 -> 4 | B16: =[2]予定価格算出資料!B15 -> 高齢者社会活動支援センター | C16: =[1]別紙3!C8 -> 52 | E16: 100 | F16: =12*ROUNDDOWN(C16*D16*((185-E16)/100),2) -> 0 | G16: =[2]予定価格算出資料!G15 -> 夏季 | H16: =SUM([1]別紙3!G8:I8) -> 14996 | J16: =ROUNDDOWN(H16*I16,2) -> 0 | K16: =ROUNDDOWN(F16+J16+J17,2) -> 0 | M16: =H16+H17 -> 51242
G17: =[2]予定価格算出資料!G16 -> その他季 | H17: =SUM([1]別紙3!D8:F8)+SUM([1]別紙3!J8:O8) -> 36246 | J17: =ROUNDDOWN(H17*I17,2) -> 0
A18: =A16+1 -> 5 | B18: =[2]予定価格算出資料!B17 -> 小郡市総合保健福祉センター あすてらす | C18: =[1]別紙3!C9 -> 346 | E18: 100 | F18: =12*ROUNDDOWN(C18*D18*((185-E18)/100),2) -> 0 | G18: =[2]予定価格算出資料!G17 -> 夏季 | H18: =SUM([1]別紙3!G9:I9) -> 259242 | J18: =ROUNDDOWN(H18*I18,2) -> 0 | K18: =ROUNDDOWN(F18+J18+J19,2) -> 0 | M18: =H18+H19 -> 885389
G19: =[2]予定価格算出資料!G18 -> その他季 | H19: =SUM([1]別紙3!D9:F9)+SUM([1]別紙3!J9:O9) -> 626147 | J19: =ROUNDDOWN(H19*I19,2) -> 0
A20: =A18+1 -> 6 | B20: =[2]予定価格算出資料!B19 -> 味坂小学校 | C20: =[1]別紙3!C10 -> 97 | E20: 100 | F20: =12*ROUNDDOWN(C20*D20*((185-E20)/100),2) -> 0 | G20: =[2]予定価格算出資料!G19 -> 夏季 | H20: =SUM([1]別紙3!G10:I10) -> 26925 | J20: =ROUNDDOWN(H20*I20,2) -> 0 | K20: =ROUNDDOWN(F20+J20+J21,2) -> 0 | M20: =H20+H21 -> 107446
G21: =[2]予定価格算出資料!G20 -> その他季 | H21: =SUM([1]別紙3!D10:F10)+SUM([1]別紙3!J10:O10) -> 80521 | J21: =ROUNDDOWN(H21*I21,2) -> 0
A22: =A20+1 -> 7 | B22: =[2]予定価格算出資料!B21 -> 小郡小学校 | C22: =[1]別紙3!C11 -> 319 | E22: 100 | F22: =12*ROUNDDOWN(C22*D22*((185-E22)/100),2) -> 0 | G22: =[2]予定価格算出資料!G21 -> 夏季 | H22: =SUM([1]別紙3!G11:I11) -> 91359 | J22: =ROUNDDOWN(H22*I22,2) -> 0 | K22: =ROUNDDOWN(F22+J22+J23,2) -> 0 | M22: =H22+H23 -> 291857
G23: =[2]予定価格算出資料!G22 -> その他季 | H23: =SUM([1]別紙3!D11:F11)+SUM([1]別紙3!J11:O11) -> 200498 | J23: =ROUNDDOWN(H23*I23,2) -> 0
A24: =A22+1 -> 8 | B24: =[2]予定価格算出資料!B23 -> 御原小学校 | C24: =[1]別紙3!C12 -> 148 | E24: 100 | F24: =12*ROUNDDOWN(C24*D24*((185-E24)/100),2) -> 0 | G24: =[2]予定価格算出資料!G23 -> 夏季 | H24: =SUM([1]別紙3!G12:I12) -> 40585 | J24: =ROUNDDOWN(H24*I24,2) -> 0 | K24: =ROUNDDOWN(F24+J24+J25,2) -> 0 | M24: =H24+H25 -> 132484
G25: =[2]予定価格算出資料!G24 -> その他季 | H25: =SUM([1]別紙3!D12:F12)+SUM([1]別紙3!J12:O12) -> 91899 | J25: =ROUNDDOWN(H25*I25,2) -> 0
A26: =A24+1 -> 9 | B26: =[2]予定価格算出資料!B25 -> 立石小学校 | C26: =[1]別紙3!C13 -> 91 | E26: 100 | F26: =12*ROUNDDOWN(C26*D26*((185-E26)/100),2) -> 0 | G26: =[2]予定価格算出資料!G25 -> 夏季 | H26: =SUM([1]別紙3!G13:I13) -> 31536 | J26: =ROUNDDOWN(H26*I26,2) -> 0 | K26: =ROUNDDOWN(F26+J26+J27,2) -> 0 | M26: =H26+H27 -> 112975
G27: =[2]予定価格算出資料!G26 -> その他季 | H27: =SUM([1]別紙3!D13:F13)+SUM([1]別紙3!J13:O13) -> 81439 | J27: =ROUNDDOWN(H27*I27,2) -> 0
A28: =A26+1 -> 10 | B28: =[2]予定価格算出資料!B27 -> 三国小学校 | C28: =[1]別紙3!C14 -> 341 | E28: 100 | F28: =12*ROUNDDOWN(C28*D28*((185-E28)/100),2) -> 0 | G28: =[2]予定価格算出資料!G27 -> 夏季 | H28: =SUM([1]別紙3!G14:I14) -> 94957 | J28: =ROUNDDOWN(H28*I28,2) -> 0 | K28: =ROUNDDOWN(F28+J28+J29,2) -> 0 | M28: =H28+H29 -> 306981
G29: =[2]予定価格算出資料!G28 -> その他季 | H29: =SUM([1]別紙3!D14:F14)+SUM([1]別紙3!J14:O14) -> 212024 | J29: =ROUNDDOWN(H29*I29,2) -> 0
A30: =A28+1 -> 11 | B30: =[2]予定価格算出資料!B29 -> 大原小学校 | C30: =[1]別紙3!C15 -> 200 | E30: 100 | F30: =12*ROUNDDOWN(C30*D30*((185-E30)/100),2) -> 0 | G30: =[2]予定価格算出資料!G29 -> 夏季 | H30: =SUM([1]別紙3!G15:I15) -> 65159 | J30: =ROUNDDOWN(H30*I30,2) -> 0 | K30: =ROUNDDOWN(F30+J30+J31,2) -> 0 | M30: =H30+H31 -> 226846
G31: =[2]予定価格算出資料!G30 -> その他季 | H31: =SUM([1]別紙3!D15:F15)+SUM([1]別紙3!J15:O15) -> 161687 | J31: =ROUNDDOWN(H31*I31,2) -> 0
A32: =A30+1 -> 12 | B32: 東野小学校 | C32: =[1]別紙3!C16 -> 162 | E32: 100 | F32: =12*ROUNDDOWN(C32*D32*((185-E32)/100),2) -> 0 | G32: =[2]予定価格算出資料!G31 -> 夏季 | H32: =SUM([1]別紙3!G16:I16) -> 51374 | J32: =ROUNDDOWN(H32*I32,2) -> 0 | K32: =ROUNDDOWN(F32+J32+J33,2) -> 0 | M32: =H32+H33 -> 165590
G33: =[2]予定価格算出資料!G32 -> その他季 | H33: =SUM([1]別紙3!D16:F16)+SUM([1]別紙3!J16:O16) -> 114216 | J33: =ROUNDDOWN(H33*I33,2) -> 0
A34: 13 | B34: のぞみが丘小学校 | C34: =[1]別紙3!C17 -> 256 | E34: 100 | F34: =12*ROUNDDOWN(C34*D34*((185-E34)/100),2) -> 0 | G34: =[2]予定価格算出資料!G33 -> 夏季 | H34: =SUM([1]別紙3!G17:I17) -> 85399 | J34: =ROUNDDOWN(H34*I34,2) -> 0 | K34: =ROUNDDOWN(F34+J34+J35,2) -> 0 | M34: =H34+H35 -> 284353
G35: =[2]予定価格算出資料!G34 -> その他季 | H35: =SUM([1]別紙3!D17:F17)+SUM([1]別紙3!J17:O17) -> 198954 | J35: =ROUNDDOWN(H35*I35,2) -> 0
A36: 14 | B36: =[2]予定価格算出資料!B33 -> 宝城中学校 | C36: =[1]別紙3!C18 -> 76 | E36: 100 | F36: =12*ROUNDDOWN(C36*D36*((185-E36)/100),2) -> 0 | G36: =[2]予定価格算出資料!G33 -> 夏季 | H36: =SUM([1]別紙3!G18:I18) -> 25061 | J36: =ROUNDDOWN(H36*I36,2) -> 0 | K36: =ROUNDDOWN(F36+J36+J37,2) -> 0 | M36: =H36+H37 -> 85488
G37: =[2]予定価格算出資料!G34 -> その他季 | H37: =SUM([1]別紙3!D18:F18)+SUM([1]別紙3!J18:O18) -> 60427 | J37: =ROUNDDOWN(H37*I37,2) -> 0
A38: 15 | B38: =[2]予定価格算出資料!B35 -> 大原中学校 | C38: =[1]別紙3!C19 -> 149 | E38: 100 | F38: =12*ROUNDDOWN(C38*D38*((185-E38)/100),2) -> 0 | G38: =[2]予定価格算出資料!G35 -> 夏季 | H38: =SUM([1]別紙3!G19:I19) -> 53645 | J38: =ROUNDDOWN(H38*I38,2) -> 0 | K38: =ROUNDDOWN(F38+J38+J39,2) -> 0 | M38: =H38+H39 -> 156700
G39: =[2]予定価格算出資料!G36 -> その他季 | H39: =SUM([1]別紙3!D19:F19)+SUM([1]別紙3!J19:O19) -> 103055 | J39: =ROUNDDOWN(H39*I39,2) -> 0
A40: 16 | B40: =[2]予定価格算出資料!B37 -> 立石中学校 | C40: =[1]別紙3!C20 -> 63 | E40: 100 | F40: =12*ROUNDDOWN(C40*D40*((185-E40)/100),2) -> 0 | G40: =[2]予定価格算出資料!G37 -> 夏季 | H40: =SUM([1]別紙3!G20:I20) -> 22303 | J40: =ROUNDDOWN(H40*I40,2) -> 0 | K40: =ROUNDDOWN(F40+J40+J41,2) -> 0 | M40: =H40+H41 -> 74422
G41: =[2]予定価格算出資料!G38 -> その他季 | H41: =SUM([1]別紙3!D20:F20)+SUM([1]別紙3!J20:O20) -> 52119 | J41: =ROUNDDOWN(H41*I41,2) -> 0
A42: =A40+1 -> 17 | B42: =[2]予定価格算出資料!B39 -> 小郡中学校 | C42: =[1]別紙3!C21 -> 120 | E42: 100 | F42: =12*ROUNDDOWN(C42*D42*((185-E42)/100),2) -> 0 | G42: =[2]予定価格算出資料!G39 -> 夏季 | H42: =SUM([1]別紙3!G21:I21) -> 40602 | J42: =ROUNDDOWN(H42*I42,2) -> 0 | K42: =ROUNDDOWN(F42+J42+J43,2) -> 0 | M42: =H42+H43 -> 132177
G43: =[2]予定価格算出資料!G40 -> その他季 | H43: =SUM([1]別紙3!D21:F21)+SUM([1]別紙3!J21:O21) -> 91575 | J43: =ROUNDDOWN(H43*I43,2) -> 0
A44: =A42+1 -> 18 | B44: =[2]予定価格算出資料!B41 -> 三国中学校 | C44: =[1]別紙3!C22 -> 229 | E44: 100 | F44: =12*ROUNDDOWN(C44*D44*((185-E44)/100),2) -> 0 | G44: =[2]予定価格算出資料!G41 -> 夏季 | H44: =SUM([1]別紙3!G22:I22) -> 80986 | J44: =ROUNDDOWN(H44*I44,2) -> 0 | K44: =ROUNDDOWN(F44+J44+J45,2) -> 0 | M44: =H44+H45 -> 255326
G45: =[2]予定価格算出資料!G42 -> その他季 | H45: =SUM([1]別紙3!D22:F22)+SUM([1]別紙3!J22:O22) -> 174340 | J45: =ROUNDDOWN(H45*I45,2) -> 0
A46: =A44+1 -> 19 | B46: =[2]予定価格算出資料!B43 -> 小郡市生涯学習センター | C46: =[1]別紙3!C23 -> 128 | E46: 100 | F46: =12*ROUNDDOWN(C46*D46*((185-E46)/100),2) -> 0 | G46: =[2]予定価格算出資料!G43 -> 夏季平日 | H46: =SUM([1]別紙3!G24:I24) -> 57429 | J46: =ROUNDDOWN(H46*I46,2) -> 0 | K46: =ROUNDDOWN(F46+J46+J47+J48+J49,2) -> 0 | M46: =H46+H47+H48+H49 -> 237692
G47: =[2]予定価格算出資料!G44 -> 夏季休日 | H47: =SUM([1]別紙3!G25:I25) -> 28510 | J47: =ROUNDDOWN(H47*I47,2) -> 0
B48: =[2]予定価格算出資料!B45 -> #REF! | G48: =[2]予定価格算出資料!G45 -> その他季平日 | H48: =SUM([1]別紙3!D24:F24)+SUM([1]別紙3!J24:O24) -> 97595 | J48: =ROUNDDOWN(H48*I48,2) -> 0
G49: =[2]予定価格算出資料!G46 -> その他季休日 | H49: =SUM([1]別紙3!D25:F25)+SUM([1]別紙3!J25:O25) -> 54158 | J49: =ROUNDDOWN(H49*I49,2) -> 0
A50: =A46+1 -> 20 | B50: =[2]予定価格算出資料!B47 -> 小郡市文化会館 | C50: =[1]別紙3!C26 -> 442 | E50: 100 | F50: =12*ROUNDDOWN(C50*D50*((185-E50)/100),2) -> 0 | G50: =[2]予定価格算出資料!G47 -> 夏季平日 | H50: =SUM([1]別紙3!G27:I27) -> 59239 | J50: =ROUNDDOWN(H50*I50,2) -> 0 | K50: =ROUNDDOWN(F50+J50+J51+J52+J53,2) -> 0 | M50: =H50+H51+H52+H53 -> 347111
G51: =[2]予定価格算出資料!G48 -> 夏季休日 | H51: =SUM([1]別紙3!G28:I28) -> 55422 | J51: =ROUNDDOWN(H51*I51,2) -> 0
B52: =[2]予定価格算出資料!B49 -> #REF! | G52: =[2]予定価格算出資料!G49 -> その他季平日 | H52: =SUM([1]別紙3!D27:F27)+SUM([1]別紙3!J27:O27) -> 137457 | J52: =ROUNDDOWN(H52*I52,2) -> 0
G53: =[2]予定価格算出資料!G50 -> その他季休日 | H53: =SUM([1]別紙3!D28:F28)+SUM([1]別紙3!J28:O28) -> 94993 | J53: =ROUNDDOWN(H53*I53,2) -> 0
A54: =A50+1 -> 21 | B54: =[2]予定価格算出資料!B51 -> 味坂校区コミュニティセンター | C54: =[1]別紙3!C29 -> 27 | E54: 100 | F54: =12*ROUNDDOWN(C54*D54*((185-E54)/100),2) -> 0 | G54: =[2]予定価格算出資料!G51 -> 夏季 | H54: =SUM([1]別紙3!G29:I29) -> 7673 | J54: =ROUNDDOWN(H54*I54,2) -> 0 | K54: =ROUNDDOWN(F54+J54+J55,2) -> 0 | M54: =H54+H55 -> 23834
G55: =[2]予定価格算出資料!G52 -> その他季 | H55: =SUM([1]別紙3!D29:F29)+SUM([1]別紙3!J29:O29) -> 16161 | J55: =ROUNDDOWN(H55*I55,2) -> 0
A56: =A54+1 -> 22 | B56: =[2]予定価格算出資料!B53 -> 御原校区コミュニティセンター | C56: =[1]別紙3!C30 -> 24 | E56: 100 | F56: =12*ROUNDDOWN(C56*D56*((185-E56)/100),2) -> 0 | G56: =[2]予定価格算出資料!G53 -> 夏季 | H56: =SUM([1]別紙3!G30:I30) -> 7946 | J56: =ROUNDDOWN(H56*I56,2) -> 0 | K56: =ROUNDDOWN(F56+J56+J57,2) -> 0 | M56: =H56+H57 -> 22191
G57: =[2]予定価格算出資料!G54 -> その他季 | H57: =SUM([1]別紙3!D30:F30)+SUM([1]別紙3!J30:O30) -> 14245 | J57: =ROUNDDOWN(H57*I57,2) -> 0
A58: =A56+1 -> 23 | B58: =[2]予定価格算出資料!B55 -> 立石校区コミュニティセンター | C58: =[1]別紙3!C31 -> 34 | E58: 100 | F58: =12*ROUNDDOWN(C58*D58*((185-E58)/100),2) -> 0 | G58: =[2]予定価格算出資料!G55 -> 夏季 | H58: =SUM([1]別紙3!G31:I31) -> 8296 | J58: =ROUNDDOWN(H58*I58,2) -> 0 | K58: =ROUNDDOWN(F58+J58+J59,2) -> 0 | M58: =H58+H59 -> 25173
G59: =[2]予定価格算出資料!G56 -> その他季 | H59: =SUM([1]別紙3!D31:F31)+SUM([1]別紙3!J31:O31) -> 16877 | J59: =ROUNDDOWN(H59*I59,2) -> 0
A60: =A58+1 -> 24 | B60: =[2]予定価格算出資料!B57 -> 三国校区コミュニティセンター | C60: =[1]別紙3!C32 -> 74 | E60: 100 | F60: =12*ROUNDDOWN(C60*D60*((185-E60)/100),2) -> 0 | G60: =[2]予定価格算出資料!G57 -> 夏季 | H60: =SUM([1]別紙3!G32:I32) -> 23050 | J60: =ROUNDDOWN(H60*I60,2) -> 0 | K60: =ROUNDDOWN(F60+J60+J61,2) -> 0 | M60: =H60+H61 -> 60935
G61: =[2]予定価格算出資料!G58 -> その他季 | H61: =SUM([1]別紙3!D32:F32)+SUM([1]別紙3!J32:O32) -> 37885 | J61: =ROUNDDOWN(H61*I61,2) -> 0
A62: =A60+1 -> 25 | B62: =[2]予定価格算出資料!B59 -> 小郡校区コミュニティセンター | C62: =[1]別紙3!C33 -> 34 | E62: 100 | F62: =12*ROUNDDOWN(C62*D62*((185-E62)/100),2) -> 0 | G62: =[2]予定価格算出資料!G59 -> 夏季 | H62: =SUM([1]別紙3!G33:I33) -> 9166 | J62: =ROUNDDOWN(H62*I62,2) -> 0 | K62: =ROUNDDOWN(F62+J62+J63,2) -> 0 | M62: =H62+H63 -> 29469
G63: =[2]予定価格算出資料!G60 -> その他季 | H63: =SUM([1]別紙3!D33:F33)+SUM([1]別紙3!J33:O33) -> 20303 | J63: =ROUNDDOWN(H63*I63,2) -> 0
A64: =A62+1 -> 26 | B64: =[2]予定価格算出資料!B61 -> 東野校区コミュニティセンター | C64: =[1]別紙3!C34 -> 80 | E64: 100 | F64: =12*ROUNDDOWN(C64*D64*((185-E64)/100),2) -> 0 | G64: =[2]予定価格算出資料!G61 -> 夏季 | H64: =SUM([1]別紙3!G34:I34) -> 23439 | J64: =ROUNDDOWN(H64*I64,2) -> 0 | K64: =ROUNDDOWN(F64+J64+J65,2) -> 0 | M64: =H64+H65 -> 72268
G65: =[2]予定価格算出資料!G62 -> その他季 | H65: =SUM([1]別紙3!D34:F34)+SUM([1]別紙3!J34:O34) -> 48829 | J65: =ROUNDDOWN(H65*I65,2) -> 0
A66: =A64+1 -> 27 | B66: =[2]予定価格算出資料!B63 -> 大原校区コミュニティセンター | C66: =[1]別紙3!C35 -> 46 | E66: 100 | F66: =12*ROUNDDOWN(C66*D66*((185-E66)/100),2) -> 0 | G66: =[2]予定価格算出資料!G63 -> 夏季 | H66: =SUM([1]別紙3!G35:I35) -> 13100 | J66: =ROUNDDOWN(H66*I66,2) -> 0 | K66: =ROUNDDOWN(F66+J66+J67,2) -> 0 | M66: =H66+H67 -> 34049
G67: =[2]予定価格算出資料!G64 -> その他季 | H67: =SUM([1]別紙3!D35:F35)+SUM([1]別紙3!J35:O35) -> 20949 | J67: =ROUNDDOWN(H67*I67,2) -> 0
A68: =A66+1 -> 28 | B68: =[2]予定価格算出資料!B65 -> 小郡市体育館 | C68: =[1]別紙3!C36 -> 0 | E68: 100 | F68: =12*ROUNDDOWN(C68*D68*((185-E68)/100),2) -> 0 | G68: =[2]予定価格算出資料!G65 -> 夏季 | H68: 0 | J68: =ROUNDDOWN(H68*I68,2) -> 0 | K68: =ROUNDDOWN(F68+J68+J69,2) -> 0 | M68: =H68+H69 -> 0
G69: =[2]予定価格算出資料!G66 -> その他季 | H69: 0 | J69: =ROUNDDOWN(H69*I69,2) -> 0
A70: 28 | B70: =[2]予定価格算出資料!B67 -> 小郡市埋蔵文化財調査センター | C70: =[1]別紙3!C37 -> 68 | E70: 100 | F70: =12*ROUNDDOWN(C70*D70*((185-E70)/100),2) -> 0 | G70: =[2]予定価格算出資料!G67 -> 夏季 | H70: =SUM([1]別紙3!G37:I37) -> 20019 | J70: =ROUNDDOWN(H70*I70,2) -> 0 | K70: =ROUNDDOWN(F70+J70+J71,2) -> 0 | M70: =H70+H71 -> 60787
G71: =[2]予定価格算出資料!G68 -> その他季 | H71: =SUM([1]別紙3!D37:F37)+SUM([1]別紙3!J37:O37) -> 40768 | J71: =ROUNDDOWN(H71*I71,2) -> 0
A72: =A70+1 -> 29 | B72: =[2]予定価格算出資料!B69 -> 給食センター | C72: =[1]別紙3!C38 -> 0 | E72: 100 | F72: =12*ROUNDDOWN(C72*D72*((185-E72)/100),2) -> 0 | G72: =[2]予定価格算出資料!G69 -> 夏季 | H72: 0 | J72: =ROUNDDOWN(H72*I72,2) -> 0 | K72: =ROUNDDOWN(F72+J72+J73,2) -> 0 | M72: =H72+H73 -> 0
G73: =[2]予定価格算出資料!G70 -> その他季 | H73: 0 | J73: =ROUNDDOWN(H73*I73,2) -> 0
A74: 29 | B74: =[2]予定価格算出資料!B71 -> 小郡運動公園 | C74: =[1]別紙3!C39 -> 297 | E74: 100 | F74: =12*ROUNDDOWN(C74*D74*((185-E74)/100),2) -> 0 | G74: 夏季平日 | H74: =SUM([1]別紙3!G40:I40) -> 42963 | J74: =ROUNDDOWN(H74*I74,2) -> 0 | K74: =ROUNDDOWN(F74+J74+J75+J76+J77,2) -> 0 | M74: =H74+H75+H76+H77 -> 233687
G75: 夏季休日 | H75: =SUM([1]別紙3!G41:I41) -> 21643 | J75: =ROUNDDOWN(H75*I75,2) -> 0
B76: =[2]予定価格算出資料!B73 -> #REF! | G76: その他季平日 | H76: =SUM([1]別紙3!D40:F40)+SUM([1]別紙3!J40:O40) -> 107155 | J76: =ROUNDDOWN(H76*I76,2) -> 0
G77: その他季休日 | H77: =SUM([1]別紙3!D41:F41)+SUM([1]別紙3!J41:O41) -> 61926 | J77: =ROUNDDOWN(H77*I77,2) -> 0
A78: 総計 | C78: =SUM(C10:C77) -> 4349 | F78: =SUM(F10:F77) -> 0 | H78: =SUM(H10:H77) -> 5054470 | J78: =SUM(J10:J77) -> 0 | K78: =SUM(K10:K77) -> 0 | L78: ・・・①
B80: （留意事項) ※夏季は毎年7月1日から9月30日までの期間とし,その他季は,夏季以外の期間とする。 ※契約期間における予定平均力率は100%とする。 ※基本料金単価(b欄)及び電力量料金単(ｆ欄)は、小数点以下第2位まで記入する。 ※燃料費調整・ 市場価格調整・離島ユニバーサルサービス調整及び再生可能エネルギー発電促進賦課金は考慮しないこと。 (燃料費調整・市場価格調整・離島ユニバーサルサービス調整及び再生可能エネルギー発電促進賦課金については、発電促進賦課金地域を管轄する一般電気事業者が定める特定規模需要標準供給条件等により別途支払います。) ※No６から１８については、体育館空調新設工事の予定がありキュービクルの設備内容が変更になる可能性があります。 | I80: 税込み金額 | J80: 小数点以下切捨て | K80: =ROUNDDOWN(K78,0) -> 0 | L80: ・・・②
H82: 入札価格（合計） | I82: 税抜き金額 | J82: ②×100/110= | K82: =ROUNDUP(K80*100/110,0) -> 0 | L82: ・・・③
K83: ※１円未満切り上げ
