Workbook
Name 使用電力調整率: '[3]（九州電力）２７年１０月～２８年９月度予想金額'!#REF!
Name 使用電力調整率: '[4]（九州電力）２７年１０月～２８年９月度予想金額'!#REF!
Name 試算: '[4]（九州電力）２７年１０月～２８年９月度予想金額'!#REF!
Name 試算: '[4]（九州電力）２７年１０月～２８年９月度予想金額'!#REF!
Name 予定価格試算: '[4]（九州電力）２７年１０月～２８年９月度予想金額'!#REF!
Name 予定価格試算: '[4]（九州電力）２７年１０月～２８年９月度予想金額'!#REF!
Name 予定価格試算2: '[4]（九州電力）２７年１０月～２８年９月度予想金額'!#REF!
Name 予定価格試算2: '[4]（九州電力）２７年１０月～２８年９月度予想金額'!#REF!

Sheet 別紙4-1
A1: 【入札内訳書】 | H1: 住 所 商 号 代表者名 印
A2: =[1]予定価格算出資料!A1 -> 令和９年度小郡市役所庁舎外２８施設電力需給
A3: =[1]予定価格算出資料!$A$2 -> （令和 ９年４月～令和１０年３月期間中の予定使用電力量)
A4: 注）各施設の年額料金の総計は、別紙４-2の総計以下とすること。
A5: No. | B5: 施設名称 | C5: 基本料金 | G5: 従量料金 | K5: 総 計 （円）
C6: 予定 契約電力 | D6: 単価 （円/ｋW・月） | E6: 力率 | F6: 基本料金（円） | G6: 予定使用電力量 | I6: 単価 （円/ｋWｈ） | J6: 従量料金（円）
C8: （ｋＷ） | D8: ※小数点以下 第2位迄記入 | E8: （％） | F8: ※月毎の料金を小数点以下第３位切捨てし、12倍したもの | G8: （ｋWh) | I8: ※小数点以下 第2位迄記入 | J8: ※小数点以下第３位切捨て | K8: ※小数点以下第３位切捨て
C9: a | D9: b | E9: ｃ | F9: d=a×b((185-c)/100)×12 | G9: e | I9: f | J9: ｈ=e×f | K9: i=d+ｈ
A10: 1 | B10: =[2]予定価格算出資料!B9 -> 小郡市役所庁舎 | C10: =[1]別紙3!C5 -> 227 | E10: 100 | F10: =12*ROUNDDOWN(C10*D10*((185-E10)/100),2) -> 0 | G10: =[2]予定価格算出資料!G9 -> 夏季 | H10: =SUM([1]別紙3!G5:I5) -> 126007 | J10: =ROUNDDOWN(H10*I10,2) -> 0 | K10: =ROUNDDOWN(F10+J10+J11,2) -> 0 | M10: =H10+H11 -> 380607
G11: =[2]予定価格算出資料!G10 -> その他季 | H11: =SUM([1]別紙3!D5:F5)+SUM([1]別紙3!J5:O5) -> 254600 | J11: =ROUNDDOWN(H11*I11,2) -> 0
A12: =A10+1 -> 2 | B12: =[2]予定価格算出資料!B11 -> 小郡市役所庁舎（南別館） | C12: =[1]別紙3!C6 -> 48 | E12: 100 | F12: =12*ROUNDDOWN(C12*D12*((185-E12)/100),2) -> 0 | G12: =[2]予定価格算出資料!G11 -> 夏季 | H12: =SUM([1]別紙3!G6:I6) -> 15049 | J12: =ROUNDDOWN(H12*I12,2) -> 0 | K12: =ROUNDDOWN(F12+J12+J13,2) -> 0 | M12: =H12+H13 -> 45131
G13: =[2]予定価格算出資料!G12 -> その他季 | H13: =SUM([1]別紙3!D6:F6)+SUM([1]別紙3!J6:O6) -> 30082 | J13: =ROUNDDOWN(H13*I13,2) -> 0
A14: =A12+1 -> 3 | B14: =[2]予定価格算出資料!B13 -> 河北苑 | C14: =[1]別紙3!C7 -> 171 | E14: 100 | F14: =12*ROUNDDOWN(C14*D14*((185-E14)/100),2) -> 0 | G14: =[2]予定価格算出資料!G13 -> 夏季 | H14: =SUM([1]別紙3!G7:I7) -> 86618 | J14: =ROUNDDOWN(H14*I14,2) -> 0 | K14: =ROUNDDOWN(F14+J14+J15,2) -> 0 | M14: =H14+H15 -> 212260
G15: =[2]予定価格算出資料!G14 -> その他季 | H15: =SUM([1]別紙3!D7:F7)+SUM([1]別紙3!J7:O7) -> 125642 | J15: =ROUNDDOWN(H15*I15,2) -> 0
A16: =A14+1 -> 4 | B16: =[2]予定価格算出資料!B15 -> 高齢者社会活動支援センター | C16: =[1]別紙3!C8 -> 52 | E16: 100 | F16: =12*ROUNDDOWN(C16*D16*((185-E16)/100),2) -> 0 | G16: =[2]予定価格算出資料!G15 -> 夏季 | H16: =SUM([1]別紙3!G8:I8) -> 14996 | J16: =ROUNDDOWN(H16*I16,2) -> 0 | K16: =ROUNDDOWN(F16+J16+J17,2) -> 0 | M16: =H16+H17 -> 51242
G17: =[2]予定価格算出資料!G16 -> その他季 | H17: =SUM([1]別紙3!D8:F8)+SUM([1]別紙3!J8:O8) -> 36246 | J17: =ROUNDDOWN(H17*I17,2) -> 0
A18: =A16+1 -> 5 | B18: =[2]予定価格算出資料!B17 -> 小郡市総合保健福祉センター あすてらす | C18: =[1]別紙3!C9 -> 346 | E18: 100 | F18: =12*ROUNDDOWN(C18*D18*((185-E18)/100),2) -> 0 | G18: =[2]予定価格算出資料!G17 -> 夏季 | H18: =SUM([1]別紙3!G9:I9) -> 259242 | J18: =ROUNDDOWN(H18*I18,2) -> 0 | K18: =ROUNDDOWN(F18+J18+J19,2) -> 0 | M18: =H18+H19 -> 885389
G19: =[2]予定価格算出資料!G18 -> その他季 | H19: =SUM([1]別紙3!D9:F9)+SUM([1]別紙3!J9:O9) -> 626147 | J19: =ROUNDDOWN(H19*I19,2) -> 0
A20: =A18+1 -> 6 | B20: =[2]予定価格算出資料!B19 -> 味坂小学校 | C20: =[1]別紙3!C10 -> 97 | E20: 100 | F20: =12*ROUNDDOWN(C20*D20*((185-E20)/100),2) -> 0 | G20: =[2]予定価格算出資料!G19 -> 夏季 | H20: =SUM([1]別紙3!G10:I10) -> 26925 | J20: =ROUNDDOWN(H20*I20,2) -> 0 | K20: =ROUNDDOWN(F20+J20+J21,2) -> 0 | M20: =H20+H21 -> 107446
G21: =[2]予定価格算出資料!G20 -> その他季 | H21: =SUM([1]別紙3!D10:F10)+SUM([1]別紙3!J10:O10) -> 80521 | J21: =ROUNDDOWN(H21*I21,2) -> 0
A22: =A20+1 -> 7 | B22: =[2]予定価格算出資料!B21 -> 小郡小学校 | C22: =[1]別紙3!C11 -> 319 | E22: 100 | F22: =12*ROUNDDOWN(C22*D22*((185-E22)/100),2) -> 0 | G22: =[2]予定価格算出資料!G21 -> 夏季 | H22: =SUM([1]別紙3!G11:I11) -> 91359 | J22: =ROUNDDOWN(H22*I22,2) -> 0 | K22: =ROUNDDOWN(F22+J22+J23,2) -> 0 | M22: =H22+H23 -> 291857
G23: =[2]予定価格算出資料!G22 -> その他季 | H23: =SUM([1]別紙3!D11:F11)+SUM([1]別紙3!J11:O11) -> 200498 | J23: =ROUNDDOWN(H23*I23,2) -> 0
A24: =A22+1 -> 8 | B24: =[2]予定価格算出資料!B23 -> 御原小学校 | C24: =[1]別紙3!C12 -> 148 | E24: 100 | F24: =12*ROUNDDOWN(C24*D24*((185-E24)/100),2) -> 0 | G24: =[2]予定価格算出資料!G23 -> 夏季 | H24: =SUM([1]別紙3!G12:I12) -> 40585 | J24: =ROUNDDOWN(H24*I24,2) -> 0 | K24: =ROUNDDOWN(F24+J24+J25,2) -> 0 | M24: =H24+H25 -> 132484
G25: =[2]予定価格算出資料!G24 -> その他季 | H25: =SUM([1]別紙3!D12:F12)+SUM([1]別紙3!J12:O12) -> 91899 | J25: =ROUNDDOWN(H25*I25,2) -> 0
A26: =A24+1 -> 9 | B26: =[2]予定価格算出資料!B25 -> 立石小学校 | C26: =[1]別紙3!C13 -> 91 | E26: 100 | F26: =12*ROUNDDOWN(C26*D26*((185-E26)/100),2) -> 0 | G26: =[2]予定価格算出資料!G25 -> 夏季 | H26: =SUM([1]別紙3!G13:I13) -> 31536 | J26: =ROUNDDOWN(H26*I26,2) -> 0 | K26: =ROUNDDOWN(F26+J26+J27,2) -> 0 | M26: =H26+H27 -> 112975
G27: =[2]予定価格算出資料!G26 -> その他季 | H27: =SUM([1]別紙3!D13:F13)+SUM([1]別紙3!J13:O13) -> 81439 | J27: =ROUNDDOWN(H27*I27,2) -> 0
A28: =A26+1 -> 10 | B28: =[2]予定価格算出資料!B27 -> 三国小学校 | C28: =[1]別紙3!C14 -> 341 | E28: 100 | F28: =12*ROUNDDOWN(C28*D28*((185-E28)/100),2) -> 0 | G28: =[2]予定価格算出資料!G27 -> 夏季 | H28: =SUM([1]別紙3!G14:I14) -> 94957 | J28: =ROUNDDOWN(H28*I28,2) -> 0 | K28: =ROUNDDOWN(F28+J28+J29,2) -> 0 | M28: =H28+H29 -> 306981
G29: =[2]予定価格算出資料!G28 -> その他季 | H29: =SUM([1]別紙3!D14:F14)+SUM([1]別紙3!J14:O14) -> 212024 | J29: =ROUNDDOWN(H29*I29,2) -> 0
A30: =A28+1 -> 11 | B30: =[2]予定価格算出資料!B29 -> 大原小学校 | C30: =[1]別紙3!C15 -> 200 | E30: 100 | F30: =12*ROUNDDOWN(C30*D30*((185-E30)/100),2) -> 0 | G30: =[2]予定価格算出資料!G29 -> 夏季 | H30: =SUM([1]別紙3!G15:I15) -> 65159 | J30: =ROUNDDOWN(H30*I30,2) -> 0 | K30: =ROUNDDOWN(F30+J30+J31,2) -> 0 | M30: =H30+H31 -> 226846
G31: =[2]予定価格算出資料!G30 -> その他季 | H31: =SUM([1]別紙3!D15:F15)+SUM([1]別紙3!J15:O15) -> 161687 | J31: =ROUNDDOWN(H31*I31,2) -> 0
A32: =A30+1 -> 12 | B32: 東野小学校 | C32: =[1]別紙3!C16 -> 162 | E32: 100 | F32: =12*ROUNDDOWN(C32*D32*((185-E32)/100),2) -> 0 | G32: =[2]予定価格算出資料!G31 -> 夏季 | H32: =SUM([1]別紙3!G16:I16) -> 51374 | J32: =ROUNDDOWN(H32*I32,2) -> 0 | K32: =ROUNDDOWN(F32+J32+J33,2) -> 0 | M32: =H32+H33 -> 165590
G33: =[2]予定価格算出資料!G32 -> その他季 | H33: =SUM([1]別紙3!D16:F16)+SUM([1]別紙3!J16:O16) -> 114216 | J33: =ROUNDDOWN(H33*I33,2) -> 0
A34: 13 | B34: のぞみが丘小学校 | C34: =[1]別紙3!C17 -> 256 | E34: 100 | F34: =12*ROUNDDOWN(C34*D34*((185-E34)/100),2) -> 0 | G34: =[2]予定価格算出資料!G33 -> 夏季 | H34: =SUM([1]別紙3!G17:I17) -> 85399 | J34: =ROUNDDOWN(H34*I34,2) -> 0 | K34: =ROUNDDOWN(F34+J34+J35,2) -> 0 | M34: =H34+H35 -> 284353
G35: =[2]予定価格算出資料!G34 -> その他季 | H35: =SUM([1]別紙3!D17:F17)+SUM([1]別紙3!J17:O17) -> 198954 | J35: =ROUNDDOWN(H35*I35,2) -> 0
A36: 14 | B36: =[2]予定価格算出資料!B33 -> 宝城中学校 | C36: =[1]別紙3!C18 -> 76 | E36: 100 | F36: =12*ROUNDDOWN(C36*D36*((185-E36)/100),2) -> 0 | G36: =[2]予定価格算出資料!G33 -> 夏季 | H36: =SUM([1]別紙3!G18:I18) -> 25061 | J36: =ROUNDDOWN(H36*I36,2) -> 0 | K36: =ROUNDDOWN(F36+J36+J37,2) -> 0 | M36: =H36+H37 -> 85488
G37: =[2]予定価格算出資料!G34 -> その他季 | H37: =SUM([1]別紙3!D18:F18)+SUM([1]別紙3!J18:O18) -> 60427 | J37: =ROUNDDOWN(H37*I37,2) -> 0
A38: 15 | B38: =[2]予定価格算出資料!B35 -> 大原中学校 | C38: =[1]別紙3!C19 -> 149 | E38: 100 | F38: =12*ROUNDDOWN(C38*D38*((185-E38)/100),2) -> 0 | G38: =[2]予定価格算出資料!G35 -> 夏季 | H38: =SUM([1]別紙3!G19:I19) -> 53645 | J38: =ROUNDDOWN(H38*I38,2) -> 0 | K38: =ROUNDDOWN(F38+J38+J39,2) -> 0 | M38: =H38+H39 -> 156700
G39: =[2]予定価格算出資料!G36 -> その他季 | H39: =SUM([1]別紙3!D19:F19)+SUM([1]別紙3!J19:O19) -> 103055 | J39: =ROUNDDOWN(H39*I39,2) -> 0
A40: 16 | B40: =[2]予定価格算出資料!B37 -> 立石中学校 | C40: =[1]別紙3!C20 -> 63 | E40: 100 | F40: =12*ROUNDDOWN(C40*D40*((185-E40)/100),2) -> 0 | G40: =[2]予定価格算出資料!G37 -> 夏季 | H40: =SUM([1]別紙3!G20:I20) -> 22303 | J40: =ROUNDDOWN(H40*I40,2) -> 0 | K40: =ROUNDDOWN(F40+J40+J41,2) -> 0 | M40: =H40+H41 -> 74422
G41: =[2]予定価格算出資料!G38 -> その他季 | H41: =SUM([1]別紙3!D20:F20)+SUM([1]別紙3!J20:O20) -> 52119 | J41: =ROUNDDOWN(H41*I41,2) -> 0
...
